BEGIN:VCALENDAR
VERSION:2.0
PRODID:-//Kittur Sainik School - ECPv6.15.20//NONSGML v1.0//EN
CALSCALE:GREGORIAN
METHOD:PUBLISH
X-WR-CALNAME:Kittur Sainik School
X-ORIGINAL-URL:https://kittursainikschool.org
X-WR-CALDESC:Events for Kittur Sainik School
REFRESH-INTERVAL;VALUE=DURATION:PT1H
X-Robots-Tag:noindex
X-PUBLISHED-TTL:PT1H
BEGIN:VTIMEZONE
TZID:Asia/Kolkata
BEGIN:STANDARD
TZOFFSETFROM:+0530
TZOFFSETTO:+0530
TZNAME:IST
DTSTART:20250101T000000
END:STANDARD
END:VTIMEZONE
BEGIN:VEVENT
DTSTART;TZID=Asia/Kolkata:20260421T083000
DTEND;TZID=Asia/Kolkata:20260425T180000
DTSTAMP:20260425T164331
CREATED:20250725T083849Z
LAST-MODIFIED:20250725T102431Z
UID:2718-1776760200-1777140000@kittursainikschool.org
SUMMARY:Periodic Test - I for class up coming X
DESCRIPTION:
URL:https://kittursainikschool.org/event/periodic-test-i-for-class-up-coming-x-2/
END:VEVENT
BEGIN:VEVENT
DTSTART;TZID=Asia/Kolkata:20260430T083000
DTEND;TZID=Asia/Kolkata:20260430T180000
DTSTAMP:20260425T164331
CREATED:20250725T083849Z
LAST-MODIFIED:20250725T102431Z
UID:2719-1777537800-1777572000@kittursainikschool.org
SUMMARY:Summer Vacation Starts for upcoming class X (Tentative)
DESCRIPTION:
URL:https://kittursainikschool.org/event/summer-vacation-starts-for-upcoming-class-x-tentative-2/
END:VEVENT
BEGIN:VEVENT
DTSTART;TZID=Asia/Kolkata:20260501T083000
DTEND;TZID=Asia/Kolkata:20260501T180000
DTSTAMP:20260425T164331
CREATED:20250725T083908Z
LAST-MODIFIED:20250725T102432Z
UID:2720-1777624200-1777658400@kittursainikschool.org
SUMMARY:Buddha Purnima
DESCRIPTION:
URL:https://kittursainikschool.org/event/buddha-purnima-2/
END:VEVENT
BEGIN:VEVENT
DTSTART;TZID=Asia/Kolkata:20260502T083000
DTEND;TZID=Asia/Kolkata:20260502T180000
DTSTAMP:20260425T164331
CREATED:20250725T083908Z
LAST-MODIFIED:20250725T102432Z
UID:2721-1777710600-1777744800@kittursainikschool.org
SUMMARY:Shankaracharya Jayanti
DESCRIPTION:
URL:https://kittursainikschool.org/event/shankaracharya-jayanti-2/
END:VEVENT
BEGIN:VEVENT
DTSTART;TZID=Asia/Kolkata:20260507T083000
DTEND;TZID=Asia/Kolkata:20260507T180000
DTSTAMP:20260425T164331
CREATED:20250725T083908Z
LAST-MODIFIED:20250725T102432Z
UID:2722-1778142600-1778176800@kittursainikschool.org
SUMMARY:Rabindranath Tagore Jayanti
DESCRIPTION:
URL:https://kittursainikschool.org/event/rabindranath-tagore-jayanti-2/
END:VEVENT
BEGIN:VEVENT
DTSTART;TZID=Asia/Kolkata:20260510T083000
DTEND;TZID=Asia/Kolkata:20260510T180000
DTSTAMP:20260425T164331
CREATED:20250725T083908Z
LAST-MODIFIED:20250725T102432Z
UID:2723-1778401800-1778436000@kittursainikschool.org
SUMMARY:Mother's Day
DESCRIPTION:
URL:https://kittursainikschool.org/event/mothers-day-2/
END:VEVENT
BEGIN:VEVENT
DTSTART;TZID=Asia/Kolkata:20260515T083000
DTEND;TZID=Asia/Kolkata:20260515T180000
DTSTAMP:20260425T164331
CREATED:20250725T083908Z
LAST-MODIFIED:20250725T102432Z
UID:2724-1778833800-1778868000@kittursainikschool.org
SUMMARY:Summer Vacation for upcoming Class XII (Tentative)
DESCRIPTION:
URL:https://kittursainikschool.org/event/summer-vacation-for-upcoming-class-xii-tentative-2/
END:VEVENT
END:VCALENDAR